BEGIN:VCALENDAR
VERSION:2.0
PRODID:-//demosphere.net//NONSGML kigkonsult.se iCalcreator 2.22.1//
METHOD:REQUEST
X-WR-TIMEZONE:Europe/Athens
BEGIN:VEVENT
UID:https://thessaloniki.kinimatorama.net/event/19851
DTSTAMP:20120602T190000Z
DESCRIPTION:περισσότερες πληροφορίες: https://thessaloniki.kinimatorama.net
 /event/19851 
DTSTART:20120602T190000Z
DTEND:20120602T200000Z
GEO:+38.00095;+23.737762
LOCATION:Αθήνα\, \nΔημοτική Αγορά Κυψέλης \nΦωκίωνος Νέγρη 42
SUMMARY:Πάρτυ οικονομικής ενίσχυσης του ΣΩ.Β.Α
URL:https://thessaloniki.kinimatorama.net/event/19851
END:VEVENT
END:VCALENDAR
