BEGIN:VCALENDAR
VERSION:2.0
PRODID:-//demosphere.net//NONSGML kigkonsult.se iCalcreator 2.22.1//
METHOD:REQUEST
X-WR-TIMEZONE:Europe/Athens
BEGIN:VEVENT
UID:https://thessaloniki.kinimatorama.net/event/19889
DTSTAMP:20120609T153000Z
DESCRIPTION:περισσότερες πληροφορίες: https://thessaloniki.kinimatorama.net
 /event/19889 
DTSTART:20120609T153000Z
DTEND:20120609T163000Z
GEO:+37.970988;+23.714424
LOCATION:Αθήνα\, \nΚατάληψη ΠΙΚΠΑ \nΤιμοδήμου κ Αντωνιάδου \nΆνω Πετράλωνα 
 \n(στα Πέτρινα)
SUMMARY:Παιδική παράσταση: Όταν ο Πινόκιο συνάντησε την κοκκινοσκουφίτσα
URL:https://thessaloniki.kinimatorama.net/event/19889
END:VEVENT
END:VCALENDAR
