BEGIN:VCALENDAR
VERSION:2.0
PRODID:-//demosphere.net//NONSGML kigkonsult.se iCalcreator 2.22.1//
METHOD:REQUEST
X-WR-TIMEZONE:Europe/Athens
BEGIN:VEVENT
UID:https://thessaloniki.kinimatorama.net/event/2010
DTSTAMP:20100226T100000Z
DESCRIPTION:περισσότερες πληροφορίες: https://thessaloniki.kinimatorama.net
 /event/2010 
DTSTART:20100226T100000Z
DTEND:20100226T110000Z
GEO:+38.00095;+23.737762
LOCATION:Αθήνα\, \nΔημοτική Αγορά Κυψέλης \nΦωκίωνος Νέγρη 42
SUMMARY:Εκδήλωση για τα ναρκοπέδια και τα θυματά τους
URL:https://thessaloniki.kinimatorama.net/event/2010
END:VEVENT
END:VCALENDAR
