BEGIN:VCALENDAR
VERSION:2.0
PRODID:-//demosphere.net//NONSGML kigkonsult.se iCalcreator 2.22.1//
METHOD:REQUEST
X-WR-TIMEZONE:Europe/Athens
BEGIN:VEVENT
UID:https://thessaloniki.kinimatorama.net/event/20707
DTSTAMP:20120620T170000Z
DESCRIPTION:περισσότερες πληροφορίες: https://thessaloniki.kinimatorama.net
 /event/20707 
DTSTART:20120620T170000Z
DTEND:20120620T180000Z
GEO:+35.341459;+25.132416
LOCATION:Ηράκλειο\, \nΚατάληψη Ευαγγελισμού \nΘεοτοκοπούλου 18
SUMMARY:Συζήτηση – Συνέλευση ενάντια στις ΒΑΠΕ
URL:https://thessaloniki.kinimatorama.net/event/20707
END:VEVENT
END:VCALENDAR
