BEGIN:VCALENDAR
VERSION:2.0
PRODID:-//demosphere.net//NONSGML kigkonsult.se iCalcreator 2.22.1//
METHOD:REQUEST
X-WR-TIMEZONE:Europe/Athens
BEGIN:VEVENT
UID:https://thessaloniki.kinimatorama.net/event/20789
DTSTAMP:20120624T120000Z
DESCRIPTION:περισσότερες πληροφορίες: https://thessaloniki.kinimatorama.net
 /event/20789 
DTSTART:20120624T120000Z
DTEND:20120624T130000Z
GEO:+38.00095;+23.737762
LOCATION:Αθήνα\, \nΔημοτική Αγορά Κυψέλης \nΦωκίωνος Νέγρη 42
SUMMARY:Εκτακτη συνέλευση της Συ.Βα.Τε.Κ.Τ.
URL:https://thessaloniki.kinimatorama.net/event/20789
END:VEVENT
END:VCALENDAR
