BEGIN:VCALENDAR
VERSION:2.0
PRODID:-//demosphere.net//NONSGML kigkonsult.se iCalcreator 2.22.1//
METHOD:REQUEST
X-WR-TIMEZONE:Europe/Athens
BEGIN:VEVENT
UID:https://thessaloniki.kinimatorama.net/event/21011
DTSTAMP:20120704T170000Z
DESCRIPTION:περισσότερες πληροφορίες: https://thessaloniki.kinimatorama.net
 /event/21011 
DTSTART:20120704T170000Z
DTEND:20120704T180000Z
GEO:+38.00095;+23.737762
LOCATION:Αθήνα\, \nΔημοτική Αγορά Κυψέλης \nΦωκίωνος Νέγρη 42
SUMMARY:Προβολή του ντοκιμαντέρ Οι φιλίες των παιδιών
URL:https://thessaloniki.kinimatorama.net/event/21011
END:VEVENT
END:VCALENDAR
