BEGIN:VCALENDAR
VERSION:2.0
PRODID:-//demosphere.net//NONSGML kigkonsult.se iCalcreator 2.22.1//
METHOD:REQUEST
X-WR-TIMEZONE:Europe/Athens
BEGIN:VEVENT
UID:https://thessaloniki.kinimatorama.net/event/21139
DTSTAMP:20120709T170000Z
DESCRIPTION:περισσότερες πληροφορίες: https://thessaloniki.kinimatorama.net
 /event/21139 
DTSTART:20120709T170000Z
DTEND:20120709T180000Z
GEO:+38.012952;+23.695256
LOCATION:Περιστέρι\, \nΔημαρχείο Περιστερίου \nΠλατεία Δημαρχείου \n(Μετρό:
  Περιστέρι\, \nτρόλεϋ: 12\, \nλεωφορεία: Α13\, Β13)
SUMMARY:Ανοιχτή Λαϊκή Συνέλευση στο Περιστέρι
URL:https://thessaloniki.kinimatorama.net/event/21139
END:VEVENT
END:VCALENDAR
