BEGIN:VCALENDAR
VERSION:2.0
PRODID:-//demosphere.net//NONSGML kigkonsult.se iCalcreator 2.22.1//
METHOD:REQUEST
X-WR-TIMEZONE:Europe/Athens
BEGIN:VEVENT
UID:https://thessaloniki.kinimatorama.net/event/21437
DTSTAMP:20120827T150000Z
DESCRIPTION:περισσότερες πληροφορίες: https://thessaloniki.kinimatorama.net
 /event/21437 
DTSTART:20120827T150000Z
DTEND:20120827T160000Z
GEO:+38.00095;+23.737762
LOCATION:Αθήνα\, \nΔημοτική Αγορά Κυψέλης \nΦωκίωνος Νέγρη 42
SUMMARY:Συγκέντρωση διαμαρτυρίας στη Δημοτική Αγορά της Κυψέλης
URL:https://thessaloniki.kinimatorama.net/event/21437
END:VEVENT
END:VCALENDAR
