BEGIN:VCALENDAR
VERSION:2.0
PRODID:-//demosphere.net//NONSGML kigkonsult.se iCalcreator 2.22.1//
METHOD:REQUEST
X-WR-TIMEZONE:Europe/Athens
BEGIN:VEVENT
UID:https://thessaloniki.kinimatorama.net/event/2160
DTSTAMP:20100228T093000Z
DESCRIPTION:περισσότερες πληροφορίες: https://thessaloniki.kinimatorama.net
 /event/2160 
DTSTART:20100228T093000Z
DTEND:20100228T103000Z
GEO:+38.00095;+23.737762
LOCATION:Αθήνα\, \nΔημοτική Αγορά Κυψέλης \nΦωκίωνος Νέγρη 42
SUMMARY:Ανοιχτή Συνέλευση & Χαριστικό παζάρι & φασολάδα...
URL:https://thessaloniki.kinimatorama.net/event/2160
END:VEVENT
END:VCALENDAR
