BEGIN:VCALENDAR
VERSION:2.0
PRODID:-//demosphere.net//NONSGML kigkonsult.se iCalcreator 2.22.1//
METHOD:REQUEST
X-WR-TIMEZONE:Europe/Athens
BEGIN:VEVENT
UID:https://thessaloniki.kinimatorama.net/event/21762
DTSTAMP:20120917T163000Z
DESCRIPTION:περισσότερες πληροφορίες: https://thessaloniki.kinimatorama.net
 /event/21762 
DTSTART:20120917T163000Z
DTEND:20120917T173000Z
GEO:+37.987555;+23.735275
LOCATION:Αθήνα\, \nΚηπάκι της Τσαμαδού \nΤσαμαδού 12 \nΕξάρχεια
SUMMARY:Συνέλευση Επιτροπής πρωτοβουλίας κατοίκων Εξαρχείων
URL:https://thessaloniki.kinimatorama.net/event/21762
END:VEVENT
END:VCALENDAR
