BEGIN:VCALENDAR
VERSION:2.0
PRODID:-//demosphere.net//NONSGML kigkonsult.se iCalcreator 2.22.1//
METHOD:REQUEST
X-WR-TIMEZONE:Europe/Athens
BEGIN:VEVENT
UID:https://thessaloniki.kinimatorama.net/event/21776
DTSTAMP:20120914T090000Z
DESCRIPTION:περισσότερες πληροφορίες: https://thessaloniki.kinimatorama.net
 /event/21776 
DTSTART:20120914T090000Z
DTEND:20120914T100000Z
GEO:+40.639326;+22.932823
LOCATION:Θεσσαλονίκη\, \nΔικαστήρια Θεσσαλονίκης
SUMMARY:Κάλεσμα αλληλεγγύης στους συλληφθέντες της κατάληψης Δέλτα
URL:https://thessaloniki.kinimatorama.net/event/21776
END:VEVENT
END:VCALENDAR
