BEGIN:VCALENDAR
VERSION:2.0
PRODID:-//demosphere.net//NONSGML kigkonsult.se iCalcreator 2.22.1//
METHOD:REQUEST
X-WR-TIMEZONE:Europe/Athens
BEGIN:VEVENT
UID:https://thessaloniki.kinimatorama.net/event/21878
DTSTAMP:20120924T060000Z
DESCRIPTION:περισσότερες πληροφορίες: https://thessaloniki.kinimatorama.net
 /event/21878 
DTSTART:20120924T060000Z
DTEND:20120924T070000Z
GEO:+37.995376;+23.743086
LOCATION:Αθήνα\, \nΔικαστήρια Ευελπίδων
SUMMARY:Κάλεσμα συμπαράστασης στα μέλη του Δεν πληρώνω που δικάζονται
URL:https://thessaloniki.kinimatorama.net/event/21878
END:VEVENT
END:VCALENDAR
