BEGIN:VCALENDAR
VERSION:2.0
PRODID:-//demosphere.net//NONSGML kigkonsult.se iCalcreator 2.22.1//
METHOD:REQUEST
X-WR-TIMEZONE:Europe/Athens
BEGIN:VEVENT
UID:https://thessaloniki.kinimatorama.net/event/22198
DTSTAMP:20121001T003300Z
DESCRIPTION:περισσότερες πληροφορίες: https://thessaloniki.kinimatorama.net
 /event/22198 
DTSTART;VALUE=DATE:20121001
GEO:+37.995376;+23.743086
LOCATION:Αθήνα\, \nΔικαστήρια Ευελπίδων
SUMMARY:Συγκέντρωση αλληλεγγύης στους συλληφθέντες της αντιφα μοτοπορείας
URL:https://thessaloniki.kinimatorama.net/event/22198
END:VEVENT
END:VCALENDAR
