BEGIN:VCALENDAR
VERSION:2.0
PRODID:-//demosphere.net//NONSGML kigkonsult.se iCalcreator 2.22.1//
METHOD:REQUEST
X-WR-TIMEZONE:Europe/Athens
BEGIN:VEVENT
UID:https://thessaloniki.kinimatorama.net/event/22309
DTSTAMP:20121005T060000Z
DESCRIPTION:περισσότερες πληροφορίες: https://thessaloniki.kinimatorama.net
 /event/22309 
DTSTART:20121005T060000Z
DTEND:20121005T070000Z
GEO:+37.995376;+23.743086
LOCATION:Αθήνα\, \nΔικαστήρια Ευελπίδων
SUMMARY:Εκδίκαση μήνυσης συλληφθέντων της Πάρνηθας κατά ματατζήδων
URL:https://thessaloniki.kinimatorama.net/event/22309
END:VEVENT
END:VCALENDAR
