BEGIN:VCALENDAR
VERSION:2.0
PRODID:-//demosphere.net//NONSGML kigkonsult.se iCalcreator 2.22.1//
METHOD:REQUEST
X-WR-TIMEZONE:Europe/Athens
BEGIN:VEVENT
UID:https://thessaloniki.kinimatorama.net/event/22705
DTSTAMP:20121019T190000Z
DESCRIPTION:περισσότερες πληροφορίες: https://thessaloniki.kinimatorama.net
 /event/22705 
DTSTART:20121019T190000Z
DTEND:20121019T200000Z
GEO:+37.989867;+23.735633
LOCATION:Αθήνα\, \nΥπόγα Κ94 \nΚαλλιδρομίου 94 \nΕξάρχεια
SUMMARY:Πάρτυ οικονομικής ενίσχυσης των 15 της μοτοπορείας
URL:https://thessaloniki.kinimatorama.net/event/22705
END:VEVENT
END:VCALENDAR
