BEGIN:VCALENDAR
VERSION:2.0
PRODID:-//demosphere.net//NONSGML kigkonsult.se iCalcreator 2.22.1//
METHOD:REQUEST
X-WR-TIMEZONE:Europe/Athens
BEGIN:VEVENT
UID:https://thessaloniki.kinimatorama.net/event/2272
DTSTAMP:20100306T160000Z
DESCRIPTION:περισσότερες πληροφορίες: https://thessaloniki.kinimatorama.net
 /event/2272 
DTSTART:20100306T160000Z
DTEND:20100306T170000Z
GEO:+38.00095;+23.737762
LOCATION:Αθήνα\, \nΔημοτική Αγορά Κυψέλης \nΦωκίωνος Νέγρη 42
SUMMARY:Γιορτή για τα 5 Χρόνια της Ένωσης Αφρικανών Γυναικών & Ημέρα της Γυ
 ναίκας  
URL:https://thessaloniki.kinimatorama.net/event/2272
END:VEVENT
END:VCALENDAR
