BEGIN:VCALENDAR
VERSION:2.0
PRODID:-//demosphere.net//NONSGML kigkonsult.se iCalcreator 2.22.1//
METHOD:REQUEST
X-WR-TIMEZONE:Europe/Athens
BEGIN:VEVENT
UID:https://thessaloniki.kinimatorama.net/event/22745
DTSTAMP:20121019T093000Z
DESCRIPTION:περισσότερες πληροφορίες: https://thessaloniki.kinimatorama.net
 /event/22745 
DTSTART:20121019T093000Z
DTEND:20121019T103000Z
GEO:+37.995376;+23.743086
LOCATION:Αθήνα\, \nΔικαστήρια Ευελπίδων
SUMMARY:Συγκέτρωση αλληλεγγύης για τους 7 σημερινούς συλληφθέντες
URL:https://thessaloniki.kinimatorama.net/event/22745
END:VEVENT
END:VCALENDAR
