BEGIN:VCALENDAR
VERSION:2.0
PRODID:-//demosphere.net//NONSGML kigkonsult.se iCalcreator 2.22.1//
METHOD:REQUEST
X-WR-TIMEZONE:Europe/Athens
BEGIN:VEVENT
UID:https://thessaloniki.kinimatorama.net/event/22818
DTSTAMP:20121022T083000Z
DESCRIPTION:περισσότερες πληροφορίες: https://thessaloniki.kinimatorama.net
 /event/22818 
DTSTART:20121022T083000Z
DTEND:20121022T093000Z
GEO:+37.995376;+23.743086
LOCATION:Αθήνα\, \nΔικαστήρια Ευελπίδων
SUMMARY:Συγκέντρωση αλληλεγγύης στους 7 συλληφθέντες της απεργίας
URL:https://thessaloniki.kinimatorama.net/event/22818
END:VEVENT
END:VCALENDAR
