BEGIN:VCALENDAR
VERSION:2.0
PRODID:-//demosphere.net//NONSGML kigkonsult.se iCalcreator 2.22.1//
METHOD:REQUEST
X-WR-TIMEZONE:Europe/Athens
BEGIN:VEVENT
UID:https://thessaloniki.kinimatorama.net/event/23521
DTSTAMP:20121127T130000Z
DESCRIPTION:περισσότερες πληροφορίες: https://thessaloniki.kinimatorama.net
 /event/23521 
DTSTART:20121127T130000Z
DTEND:20121127T140000Z
GEO:+37.987031;+23.739996
LOCATION:Αθήνα\, \nΑυτοδιαχειριζόμενο Στέκι Πέρασμα \n(πρώην Αυτόνομο Στέκι
 ) \nΖωοδόχου Πηγής 95-97 & Ισαύρων \nΕξάρχεια
SUMMARY:Συλλογική Κουζίνα Ανέργων
URL:https://thessaloniki.kinimatorama.net/event/23521
END:VEVENT
END:VCALENDAR
