BEGIN:VCALENDAR
VERSION:2.0
PRODID:-//demosphere.net//NONSGML kigkonsult.se iCalcreator 2.22.1//
METHOD:REQUEST
X-WR-TIMEZONE:Europe/Athens
BEGIN:VEVENT
UID:https://thessaloniki.kinimatorama.net/event/23890
DTSTAMP:20121213T180000Z
DESCRIPTION:περισσότερες πληροφορίες: https://thessaloniki.kinimatorama.net
 /event/23890 
DTSTART:20121213T180000Z
DTEND:20121213T190000Z
GEO:+38.012952;+23.695256
LOCATION:Περιστέρι\, \nΔημαρχείο Περιστερίου \nΠλατεία Δημαρχείου \n(Μετρό:
  Περιστέρι\, \nτρόλεϋ: 12\, \nλεωφορεία: Α13\, Β13)
SUMMARY:Ανοιχτή λαϊκή συνέλευση Περιστερίου
URL:https://thessaloniki.kinimatorama.net/event/23890
END:VEVENT
END:VCALENDAR
