BEGIN:VCALENDAR
VERSION:2.0
PRODID:-//demosphere.net//NONSGML kigkonsult.se iCalcreator 2.22.1//
METHOD:REQUEST
X-WR-TIMEZONE:Europe/Athens
BEGIN:VEVENT
UID:https://thessaloniki.kinimatorama.net/event/23959
DTSTAMP:20130123T193000Z
DESCRIPTION:περισσότερες πληροφορίες: https://thessaloniki.kinimatorama.net
 /event/23959 
DTSTART:20130123T193000Z
DTEND:20130123T203000Z
GEO:+35.517819;+24.019203
LOCATION:Χανιά\, \nΚατάληψη Rosa Nera \nΛόφος Καστέλι\, Παλιό λιμάνι
SUMMARY:Προβολή: Ο κατάσκοπος των Βαλκανίων
URL:https://thessaloniki.kinimatorama.net/event/23959
END:VEVENT
END:VCALENDAR
