BEGIN:VCALENDAR
VERSION:2.0
PRODID:-//demosphere.net//NONSGML kigkonsult.se iCalcreator 2.22.1//
METHOD:REQUEST
X-WR-TIMEZONE:Europe/Athens
BEGIN:VEVENT
UID:https://thessaloniki.kinimatorama.net/event/24190
DTSTAMP:20121205T070000Z
DESCRIPTION:περισσότερες πληροφορίες: https://thessaloniki.kinimatorama.net
 /event/24190 
DTSTART:20121205T070000Z
DTEND:20121205T080000Z
GEO:+37.995376;+23.743086
LOCATION:Αθήνα\, \nΔικαστήρια Ευελπίδων
SUMMARY:Δίκη για τον αγώνα του λόφου Φιλοπάππου
URL:https://thessaloniki.kinimatorama.net/event/24190
END:VEVENT
END:VCALENDAR
