BEGIN:VCALENDAR
VERSION:2.0
PRODID:-//demosphere.net//NONSGML kigkonsult.se iCalcreator 2.22.1//
METHOD:REQUEST
X-WR-TIMEZONE:Europe/Athens
BEGIN:VEVENT
UID:https://thessaloniki.kinimatorama.net/event/24317
DTSTAMP:20121205T183000Z
DESCRIPTION:περισσότερες πληροφορίες: https://thessaloniki.kinimatorama.net
 /event/24317 
DTSTART:20121205T183000Z
DTEND:20121205T193000Z
GEO:+37.989867;+23.735633
LOCATION:Αθήνα\, \nΥπόγα Κ94 \nΚαλλιδρομίου 94 \nΕξάρχεια
SUMMARY:Προβολή: Six String Samurai
URL:https://thessaloniki.kinimatorama.net/event/24317
END:VEVENT
END:VCALENDAR
