BEGIN:VCALENDAR
VERSION:2.0
PRODID:-//demosphere.net//NONSGML kigkonsult.se iCalcreator 2.22.1//
METHOD:REQUEST
X-WR-TIMEZONE:Europe/Athens
BEGIN:VEVENT
UID:https://thessaloniki.kinimatorama.net/event/2458
DTSTAMP:20100309T073000Z
DESCRIPTION:περισσότερες πληροφορίες: https://thessaloniki.kinimatorama.net
 /event/2458 
DTSTART:20100309T073000Z
DTEND:20100309T083000Z
GEO:+37.995376;+23.743086
LOCATION:Αθήνα\, \nΔικαστήρια Ευελπίδων
SUMMARY:Συγκέντρωση ενάντια στις παράνομες απολύσεις
URL:https://thessaloniki.kinimatorama.net/event/2458
END:VEVENT
END:VCALENDAR
