BEGIN:VCALENDAR
VERSION:2.0
PRODID:-//demosphere.net//NONSGML kigkonsult.se iCalcreator 2.22.1//
METHOD:REQUEST
X-WR-TIMEZONE:Europe/Athens
BEGIN:VEVENT
UID:https://thessaloniki.kinimatorama.net/event/25065
DTSTAMP:20130110T090000Z
DESCRIPTION:περισσότερες πληροφορίες: https://thessaloniki.kinimatorama.net
 /event/25065 
DTSTART:20130110T090000Z
DTEND:20130110T100000Z
GEO:+37.995376;+23.743086
LOCATION:Αθήνα\, \nΔικαστήρια Ευελπίδων
SUMMARY:Συγκέντρωση Αλληλλεγγύης στου συλληφθέντες Βίλλας και Σκαραμαγκά
URL:https://thessaloniki.kinimatorama.net/event/25065
END:VEVENT
END:VCALENDAR
