BEGIN:VCALENDAR
VERSION:2.0
PRODID:-//demosphere.net//NONSGML kigkonsult.se iCalcreator 2.22.1//
METHOD:REQUEST
X-WR-TIMEZONE:Europe/Athens
BEGIN:VEVENT
UID:https://thessaloniki.kinimatorama.net/event/25098
DTSTAMP:20130112T093000Z
DESCRIPTION:περισσότερες πληροφορίες: https://thessaloniki.kinimatorama.net
 /event/25098 
DTSTART:20130112T093000Z
DTEND:20130112T103000Z
GEO:+39.555039;+21.767766
LOCATION:Τρίκαλα\, \nΠλατεία Ρήγα Φεραίου
SUMMARY:Μικροφωνική Αλληλεγγύης σε καταλήψεις και αυτο/μενους χώρους
URL:https://thessaloniki.kinimatorama.net/event/25098
END:VEVENT
END:VCALENDAR
