BEGIN:VCALENDAR
VERSION:2.0
PRODID:-//demosphere.net//NONSGML kigkonsult.se iCalcreator 2.22.1//
METHOD:REQUEST
X-WR-TIMEZONE:Europe/Athens
BEGIN:VEVENT
UID:https://thessaloniki.kinimatorama.net/event/25326
DTSTAMP:20130119T103000Z
DESCRIPTION:περισσότερες πληροφορίες: https://thessaloniki.kinimatorama.net
 /event/25326 
DTSTART:20130119T103000Z
DTEND:20130119T113000Z
GEO:+39.555039;+21.767766
LOCATION:Τρίκαλα\, \nΠλατεία Ρήγα Φεραίου
SUMMARY:Αντιρατσιστικό συλλαλητήριο
URL:https://thessaloniki.kinimatorama.net/event/25326
END:VEVENT
END:VCALENDAR
