BEGIN:VCALENDAR
VERSION:2.0
PRODID:-//demosphere.net//NONSGML kigkonsult.se iCalcreator 2.22.1//
METHOD:REQUEST
X-WR-TIMEZONE:Europe/Athens
BEGIN:VEVENT
UID:https://thessaloniki.kinimatorama.net/event/25389
DTSTAMP:20130124T070000Z
DESCRIPTION:περισσότερες πληροφορίες: https://thessaloniki.kinimatorama.net
 /event/25389 
DTSTART:20130124T070000Z
DTEND:20130124T080000Z
GEO:+37.995376;+23.743086
LOCATION:Αθήνα\, \nΔικαστήρια Ευελπίδων
SUMMARY:Συγκέντρωση αλληλεγγύης στους 7 διωκόμενους της κατάληψης Σκαραμαγκ
 ά
URL:https://thessaloniki.kinimatorama.net/event/25389
END:VEVENT
END:VCALENDAR
