BEGIN:VCALENDAR
VERSION:2.0
PRODID:-//demosphere.net//NONSGML kigkonsult.se iCalcreator 2.22.1//
METHOD:REQUEST
X-WR-TIMEZONE:Europe/Athens
BEGIN:VEVENT
UID:https://thessaloniki.kinimatorama.net/event/25922
DTSTAMP:20130208T070000Z
DESCRIPTION:περισσότερες πληροφορίες: https://thessaloniki.kinimatorama.net
 /event/25922 
DTSTART:20130208T070000Z
DTEND:20130208T080000Z
GEO:+40.639326;+22.932823
LOCATION:Θεσσαλονίκη\, \nΔικαστήρια Θεσσαλονίκης
SUMMARY:Δικαστική δίωξη εναντίον του Pride της Θεσσαλονίκης
URL:https://thessaloniki.kinimatorama.net/event/25922
END:VEVENT
END:VCALENDAR
