BEGIN:VCALENDAR
VERSION:2.0
PRODID:-//demosphere.net//NONSGML kigkonsult.se iCalcreator 2.22.1//
METHOD:REQUEST
X-WR-TIMEZONE:Europe/Athens
BEGIN:VEVENT
UID:https://thessaloniki.kinimatorama.net/event/2611
DTSTAMP:20100321T130000Z
DESCRIPTION:περισσότερες πληροφορίες: https://thessaloniki.kinimatorama.net
 /event/2611 
DTSTART:20100321T130000Z
DTEND:20100321T140000Z
GEO:+38.00095;+23.737762
LOCATION:Αθήνα\, \nΔημοτική Αγορά Κυψέλης \nΦωκίωνος Νέγρη 42
SUMMARY:Εκδήλωση του Ανοιχτού Σχολείου Μεταναστών
URL:https://thessaloniki.kinimatorama.net/event/2611
END:VEVENT
END:VCALENDAR
