BEGIN:VCALENDAR
VERSION:2.0
PRODID:-//demosphere.net//NONSGML kigkonsult.se iCalcreator 2.22.1//
METHOD:REQUEST
X-WR-TIMEZONE:Europe/Athens
BEGIN:VEVENT
UID:https://thessaloniki.kinimatorama.net/event/26267
DTSTAMP:20130214T170000Z
DESCRIPTION:περισσότερες πληροφορίες: https://thessaloniki.kinimatorama.net
 /event/26267 
DTSTART:20130214T170000Z
DTEND:20130214T180000Z
GEO:+39.555039;+21.767766
LOCATION:Τρίκαλα\, \nΠλατεία Ρήγα Φεραίου
SUMMARY:Συλλαλητήριο ενόψει της γενικής απεργίας
URL:https://thessaloniki.kinimatorama.net/event/26267
END:VEVENT
END:VCALENDAR
