BEGIN:VCALENDAR
VERSION:2.0
PRODID:-//demosphere.net//NONSGML kigkonsult.se iCalcreator 2.22.1//
METHOD:REQUEST
X-WR-TIMEZONE:Europe/Athens
BEGIN:VEVENT
UID:https://thessaloniki.kinimatorama.net/event/26433
DTSTAMP:20130222T193000Z
DESCRIPTION:περισσότερες πληροφορίες: https://thessaloniki.kinimatorama.net
 /event/26433 
DTSTART:20130222T193000Z
DTEND:20130222T203000Z
GEO:+39.608422;+19.920036
LOCATION:Κέρκυρα\, \nΚατάληψη Ελαία \nΙνστιτούτο ελαίας \nΔαίρπφελδ & Αγίων
  Θεοδώρων \nΜον Ρεπό \nΓαρίτσα
SUMMARY:Καφενείο με προβολή ντοκιμαντέρ για τη ΒΙΟμηχανική ΜΕταλλευτική
URL:https://thessaloniki.kinimatorama.net/event/26433
END:VEVENT
END:VCALENDAR
