BEGIN:VCALENDAR
VERSION:2.0
PRODID:-//demosphere.net//NONSGML kigkonsult.se iCalcreator 2.22.1//
METHOD:REQUEST
X-WR-TIMEZONE:Europe/Athens
BEGIN:VEVENT
UID:https://thessaloniki.kinimatorama.net/event/26517
DTSTAMP:20130222T210000Z
DESCRIPTION:περισσότερες πληροφορίες: https://thessaloniki.kinimatorama.net
 /event/26517 
DTSTART:20130222T210000Z
DTEND:20130222T220000Z
GEO:+35.341459;+25.132416
LOCATION:Ηράκλειο\, \nΚατάληψη Ευαγγελισμού \nΘεοτοκοπούλου 18
SUMMARY:Καφενείο οικονομικής ενίσχυσης εφ. Άπατρις
URL:https://thessaloniki.kinimatorama.net/event/26517
END:VEVENT
END:VCALENDAR
