BEGIN:VCALENDAR
VERSION:2.0
PRODID:-//demosphere.net//NONSGML kigkonsult.se iCalcreator 2.22.1//
METHOD:REQUEST
X-WR-TIMEZONE:Europe/Athens
BEGIN:VEVENT
UID:https://thessaloniki.kinimatorama.net/event/2701
DTSTAMP:20100327T150000Z
DESCRIPTION:περισσότερες πληροφορίες: https://thessaloniki.kinimatorama.net
 /event/2701 
DTSTART:20100327T150000Z
DTEND:20100327T160000Z
GEO:+38.00095;+23.737762
LOCATION:Αθήνα\, \nΔημοτική Αγορά Κυψέλης \nΦωκίωνος Νέγρη 42
SUMMARY:2ήμερο «Μαζί φτιάχνουμε» Ένα καράβι για τη Γάζα
URL:https://thessaloniki.kinimatorama.net/event/2701
END:VEVENT
END:VCALENDAR
