BEGIN:VCALENDAR
VERSION:2.0
PRODID:-//demosphere.net//NONSGML kigkonsult.se iCalcreator 2.22.1//
METHOD:REQUEST
X-WR-TIMEZONE:Europe/Athens
BEGIN:VEVENT
UID:https://thessaloniki.kinimatorama.net/event/27791
DTSTAMP:20130408T060000Z
DESCRIPTION:περισσότερες πληροφορίες: https://thessaloniki.kinimatorama.net
 /event/27791 
DTSTART:20130408T060000Z
DTEND:20130408T070000Z
GEO:+40.639326;+22.932823
LOCATION:Θεσσαλονίκη\, \nΔικαστήρια Θεσσαλονίκης
SUMMARY:Συγκέντρωση Αλληλεγγύης για τους συλληφθέντες της κατάληψης Δέλτα
URL:https://thessaloniki.kinimatorama.net/event/27791
END:VEVENT
END:VCALENDAR
