BEGIN:VCALENDAR
VERSION:2.0
PRODID:-//demosphere.net//NONSGML kigkonsult.se iCalcreator 2.22.1//
METHOD:REQUEST
X-WR-TIMEZONE:Europe/Athens
BEGIN:VEVENT
UID:https://thessaloniki.kinimatorama.net/event/28003
DTSTAMP:20130413T160000Z
DESCRIPTION:περισσότερες πληροφορίες: https://thessaloniki.kinimatorama.net
 /event/28003 
DTSTART:20130413T160000Z
DTEND:20130413T170000Z
GEO:+35.51607;+24.029868
LOCATION:Χανιά\, \nθέατρο Βλησίδη \nΑκτή Μιαούλη & Μαριδάκη
SUMMARY:Εκδήλωση - αφιέρωμα στον Τάσο Λειβαδίτη
URL:https://thessaloniki.kinimatorama.net/event/28003
END:VEVENT
END:VCALENDAR
