BEGIN:VCALENDAR
VERSION:2.0
PRODID:-//demosphere.net//NONSGML kigkonsult.se iCalcreator 2.22.1//
METHOD:REQUEST
X-WR-TIMEZONE:Europe/Athens
BEGIN:VEVENT
UID:https://thessaloniki.kinimatorama.net/event/2817
DTSTAMP:20100416T170000Z
DESCRIPTION:περισσότερες πληροφορίες: https://thessaloniki.kinimatorama.net
 /event/2817 
DTSTART:20100416T170000Z
DTEND:20100416T180000Z
GEO:+38.00095;+23.737762
LOCATION:Αθήνα\, \nΔημοτική Αγορά Κυψέλης \nΦωκίωνος Νέγρη 42
SUMMARY:Αγώνες για τη μετανάστευση σε μια μετα-αποικιακή Ευρώπη
URL:https://thessaloniki.kinimatorama.net/event/2817
END:VEVENT
END:VCALENDAR
