BEGIN:VCALENDAR
VERSION:2.0
PRODID:-//demosphere.net//NONSGML kigkonsult.se iCalcreator 2.22.1//
METHOD:REQUEST
X-WR-TIMEZONE:Europe/Athens
BEGIN:VEVENT
UID:https://thessaloniki.kinimatorama.net/event/28336
DTSTAMP:20130420T090000Z
DESCRIPTION:περισσότερες πληροφορίες: https://thessaloniki.kinimatorama.net
 /event/28336 
DTSTART:20130420T090000Z
DTEND:20130420T100000Z
GEO:+37.968612;+23.746455
LOCATION:Αθήνα\, \nΆλσος Παγκρατίου \nΣπ.Μερκούρη & Ευτυχίδου \n(Τρόλεϊ 2\,
 11 - Λεωφορεία 203\,204\,204B\,211 \nστάση ΑΛΣΟΣ)
SUMMARY:Τουρνουά μπάσκετ\, χαριστικό παζάρι και συλλογικό φαγητό
URL:https://thessaloniki.kinimatorama.net/event/28336
END:VEVENT
END:VCALENDAR
