BEGIN:VCALENDAR
VERSION:2.0
PRODID:-//demosphere.net//NONSGML kigkonsult.se iCalcreator 2.22.1//
METHOD:REQUEST
X-WR-TIMEZONE:Europe/Athens
BEGIN:VEVENT
UID:https://thessaloniki.kinimatorama.net/event/28417
DTSTAMP:20130420T180000Z
DESCRIPTION:περισσότερες πληροφορίες: https://thessaloniki.kinimatorama.net
 /event/28417 
DTSTART:20130420T180000Z
DTEND:20130420T190000Z
GEO:+40.633903;+22.95648
LOCATION:Θεσσαλονίκη\, \nΣχολή Θετικών Επιστημών (ΣΘΕ) ΑΠΘ
SUMMARY:Η Θεατρική Ομάδα Φυσικού ΑΠΘ παρουσιάζει: Έγκλημα και Τιμωρία
URL:https://thessaloniki.kinimatorama.net/event/28417
END:VEVENT
END:VCALENDAR
