BEGIN:VCALENDAR
VERSION:2.0
PRODID:-//demosphere.net//NONSGML kigkonsult.se iCalcreator 2.22.1//
METHOD:REQUEST
X-WR-TIMEZONE:Europe/Athens
BEGIN:VEVENT
UID:https://thessaloniki.kinimatorama.net/event/28802
DTSTAMP:20130524T143000Z
DESCRIPTION:περισσότερες πληροφορίες: https://thessaloniki.kinimatorama.net
 /event/28802 
DTSTART:20130524T143000Z
DTEND:20130524T153000Z
GEO:+39.668568;+20.859894
LOCATION:Ιωάννινα\, \nΘεατράκι σκάλας
SUMMARY:Πολιτικό-Πολιτιστικό φεστιβάλ σχημάτων ΕΑΑΚ Ιωαννίνων
URL:https://thessaloniki.kinimatorama.net/event/28802
END:VEVENT
END:VCALENDAR
