BEGIN:VCALENDAR
VERSION:2.0
PRODID:-//demosphere.net//NONSGML kigkonsult.se iCalcreator 2.22.1//
METHOD:REQUEST
X-WR-TIMEZONE:Europe/Athens
BEGIN:VEVENT
UID:https://thessaloniki.kinimatorama.net/event/29123
DTSTAMP:20130520T060000Z
DESCRIPTION:περισσότερες πληροφορίες: https://thessaloniki.kinimatorama.net
 /event/29123 
DTSTART:20130520T060000Z
DTEND:20130520T070000Z
GEO:+37.995376;+23.743086
LOCATION:Αθήνα\, \nΔικαστήρια Ευελπίδων
SUMMARY:Συνεχίζεται η δίκη εναντίον των αγωνιστών για τον λόφο Φιλοπάππου
URL:https://thessaloniki.kinimatorama.net/event/29123
END:VEVENT
END:VCALENDAR
