BEGIN:VCALENDAR
VERSION:2.0
PRODID:-//demosphere.net//NONSGML kigkonsult.se iCalcreator 2.22.1//
METHOD:REQUEST
X-WR-TIMEZONE:Europe/Athens
BEGIN:VEVENT
UID:https://thessaloniki.kinimatorama.net/event/29799
DTSTAMP:20130611T060000Z
DESCRIPTION:περισσότερες πληροφορίες: https://thessaloniki.kinimatorama.net
 /event/29799 
DTSTART:20130611T060000Z
DTEND:20130611T070000Z
GEO:+37.995376;+23.743086
LOCATION:Αθήνα\, \nΔικαστήρια Ευελπίδων
SUMMARY:Συγκέντρωση Αλληλεγγύης στον συναγωνιστή Δημήτρη Δημάκη - Αγγελή
URL:https://thessaloniki.kinimatorama.net/event/29799
END:VEVENT
END:VCALENDAR
