BEGIN:VCALENDAR
VERSION:2.0
PRODID:-//demosphere.net//NONSGML kigkonsult.se iCalcreator 2.22.1//
METHOD:REQUEST
X-WR-TIMEZONE:Europe/Athens
BEGIN:VEVENT
UID:https://thessaloniki.kinimatorama.net/event/30676
DTSTAMP:20130725T060000Z
DESCRIPTION:περισσότερες πληροφορίες: https://thessaloniki.kinimatorama.net
 /event/30676 
DTSTART:20130725T060000Z
DTEND:20130725T070000Z
GEO:+37.995376;+23.743086
LOCATION:Αθήνα\, \nΔικαστήρια Ευελπίδων
SUMMARY:Δίκη των δυο αλληλέγγυων από την παρέμβαση στην Ακρόπολη
URL:https://thessaloniki.kinimatorama.net/event/30676
END:VEVENT
END:VCALENDAR
