BEGIN:VCALENDAR
VERSION:2.0
PRODID:-//demosphere.net//NONSGML kigkonsult.se iCalcreator 2.22.1//
METHOD:REQUEST
X-WR-TIMEZONE:Europe/Athens
BEGIN:VEVENT
UID:https://thessaloniki.kinimatorama.net/event/30814
DTSTAMP:20130814T170000Z
DESCRIPTION:περισσότερες πληροφορίες: https://thessaloniki.kinimatorama.net
 /event/30814 
DTSTART:20130814T170000Z
DTEND:20130814T180000Z
GEO:+38.012952;+23.695256
LOCATION:Περιστέρι\, \nΔημαρχείο Περιστερίου \nΠλατεία Δημαρχείου \n(Μετρό:
  Περιστέρι\, \nτρόλεϋ: 12\, \nλεωφορεία: Α13\, Β13)
SUMMARY:Ανοιχτό κάλεσμα ενημέρωσης για χθεσινή δολοφονία του 19χρονου επιβά
 τη
URL:https://thessaloniki.kinimatorama.net/event/30814
END:VEVENT
END:VCALENDAR
