BEGIN:VCALENDAR
VERSION:2.0
PRODID:-//demosphere.net//NONSGML kigkonsult.se iCalcreator 2.22.1//
METHOD:REQUEST
X-WR-TIMEZONE:Europe/Athens
BEGIN:VEVENT
UID:https://thessaloniki.kinimatorama.net/event/31214
DTSTAMP:20130916T060000Z
DESCRIPTION:περισσότερες πληροφορίες: https://thessaloniki.kinimatorama.net
 /event/31214 
DTSTART:20130916T060000Z
DTEND:20130916T070000Z
GEO:+40.639326;+22.932823
LOCATION:Θεσσαλονίκη\, \nΔικαστήρια Θεσσαλονίκης
SUMMARY:Δικαστήριο ασφαλιστικών μέτρων για Καφεναί
URL:https://thessaloniki.kinimatorama.net/event/31214
END:VEVENT
END:VCALENDAR
