BEGIN:VCALENDAR
VERSION:2.0
PRODID:-//demosphere.net//NONSGML kigkonsult.se iCalcreator 2.22.1//
METHOD:REQUEST
X-WR-TIMEZONE:Europe/Athens
BEGIN:VEVENT
UID:https://thessaloniki.kinimatorama.net/event/31496
DTSTAMP:20130926T090000Z
DESCRIPTION:περισσότερες πληροφορίες: https://thessaloniki.kinimatorama.net
 /event/31496 
DTSTART:20130926T090000Z
DTEND:20130926T100000Z
GEO:+40.628307;+22.958597
LOCATION:Θεσσαλονίκη\, \nΑίθριο Πολυτεχνείου ΑΠΘ
SUMMARY:Ανοιγμα Radio Revolt
URL:https://thessaloniki.kinimatorama.net/event/31496
END:VEVENT
END:VCALENDAR
