BEGIN:VCALENDAR
VERSION:2.0
PRODID:-//demosphere.net//NONSGML kigkonsult.se iCalcreator 2.22.1//
METHOD:REQUEST
X-WR-TIMEZONE:Europe/Athens
BEGIN:VEVENT
UID:https://thessaloniki.kinimatorama.net/event/3213
DTSTAMP:20100501T110000Z
DESCRIPTION:περισσότερες πληροφορίες: https://thessaloniki.kinimatorama.net
 /event/3213 
DTSTART:20100501T110000Z
DTEND:20100501T120000Z
GEO:+38.00095;+23.737762
LOCATION:Αθήνα\, \nΔημοτική Αγορά Κυψέλης \nΦωκίωνος Νέγρη 42
SUMMARY:Ρεμπέτικη μουσική και φιλιπινέικη κουζίνα αλληλεγγύης
URL:https://thessaloniki.kinimatorama.net/event/3213
END:VEVENT
END:VCALENDAR
