BEGIN:VCALENDAR
VERSION:2.0
PRODID:-//demosphere.net//NONSGML kigkonsult.se iCalcreator 2.22.1//
METHOD:REQUEST
X-WR-TIMEZONE:Europe/Athens
BEGIN:VEVENT
UID:https://thessaloniki.kinimatorama.net/event/32431
DTSTAMP:20131024T160000Z
DESCRIPTION:περισσότερες πληροφορίες: https://thessaloniki.kinimatorama.net
 /event/32431 
DTSTART:20131024T160000Z
DTEND:20131024T170000Z
GEO:+37.989867;+23.735633
LOCATION:Αθήνα\, \nΥπόγα Κ94 \nΚαλλιδρομίου 94 \nΕξάρχεια
SUMMARY:Fundraising trial costs for comrades 
URL:https://thessaloniki.kinimatorama.net/event/32431
END:VEVENT
END:VCALENDAR
