BEGIN:VCALENDAR
VERSION:2.0
PRODID:-//demosphere.net//NONSGML kigkonsult.se iCalcreator 2.22.1//
METHOD:REQUEST
X-WR-TIMEZONE:Europe/Athens
BEGIN:VEVENT
UID:https://thessaloniki.kinimatorama.net/event/34119
DTSTAMP:20131201T080000Z
DESCRIPTION:περισσότερες πληροφορίες: https://thessaloniki.kinimatorama.net
 /event/34119 
DTSTART:20131201T080000Z
DTEND:20131201T090000Z
GEO:+37.984156;+23.735238
LOCATION:Αθήνα\, \nΑυτοδιαχειριζόμενο Πάρκο Ναυαρίνου \nΝαυαρίνου & Ζωοδόχο
 υ Πηγής \nΕξάρχεια
SUMMARY:(Μεταφέρθηκε) Σεμινάριο παραδοσιακού χτισίματος με πέτρα
URL:https://thessaloniki.kinimatorama.net/event/34119
END:VEVENT
END:VCALENDAR
