BEGIN:VCALENDAR
VERSION:2.0
PRODID:-//demosphere.net//NONSGML kigkonsult.se iCalcreator 2.22.1//
METHOD:REQUEST
X-WR-TIMEZONE:Europe/Athens
BEGIN:VEVENT
UID:https://thessaloniki.kinimatorama.net/event/34328
DTSTAMP:20131204T181500Z
DESCRIPTION:περισσότερες πληροφορίες: https://thessaloniki.kinimatorama.net
 /event/34328 
DTSTART:20131204T181500Z
DTEND:20131204T191500Z
GEO:+37.960728;+23.75523
LOCATION:Βύρωνας\, \nΚοινωνικό Πολιτιστικό Κέντρο Βύρωνα \n'Λαμπηδόνα' \nΆλ
 σος Αγ.Τριάδας \nπρόσβαση: 11(24ωρο)\,203\,204 \nστάση ΑΓΟΡΑ ΒΥΡΩΝΑ
SUMMARY:Kύκλος ανοικτών μαθημάτων Πολιτικής Φιλοσοφίας
URL:https://thessaloniki.kinimatorama.net/event/34328
END:VEVENT
END:VCALENDAR
